BEGIN:VCALENDAR
VERSION:2.0
PRODID:-//Eventin//Event Calendar//EN
CALSCALE:GREGORIAN
METHOD:PUBLISH
BEGIN:VEVENT
UID:c30cf67a0978c5cc570aed472d94f739@ycif.fr
SUMMARY:Régate de Bassin Starmania
DESCRIPTION:Régate Starmania\n5A\nINQ-IND\nParticipation 20 EUR / bateau
LOCATION:YCIF
DTSTAMP:20260424T134616Z
DTSTART:20260425T090000Z
DTEND:20260425T150000Z
END:VEVENT
END:VCALENDAR
