BEGIN:VCALENDAR
VERSION:2.0
PRODID:-//Eventin//Event Calendar//EN
CALSCALE:GREGORIAN
METHOD:PUBLISH
BEGIN:VEVENT
UID:b578c45c05c947151a289256bdd0773b@ycif.fr
SUMMARY:Challenge Virginie Hériot
DESCRIPTION:
LOCATION:YCIF
DTSTAMP:20260424T134616Z
DTSTART:20260501T090000Z
DTEND:20260501T150000Z
END:VEVENT
END:VCALENDAR
