BEGIN:VCALENDAR
VERSION:2.0
PRODID:-//Eventin//Event Calendar//EN
CALSCALE:GREGORIAN
METHOD:PUBLISH
BEGIN:VEVENT
UID:cbd2ef10c5e9dabd0682394d42a6cdcf@ycif.fr
SUMMARY:Régate de club
DESCRIPTION:
LOCATION:YCIF
DTSTAMP:20260424T141638Z
DTSTART:20260509T123000Z
DTEND:20260509T150000Z
END:VEVENT
END:VCALENDAR
