BEGIN:VCALENDAR
VERSION:2.0
PRODID:-//Eventin//Event Calendar//EN
CALSCALE:GREGORIAN
METHOD:PUBLISH
BEGIN:VEVENT
UID:d66e79d5592e94e0cda56a2b86920dbf@ycif.fr
SUMMARY:Régate Acajou
DESCRIPTION:
LOCATION:YCIF
DTSTAMP:20260424T154022Z
DTSTART:20260517T090000Z
DTEND:20260517T150000Z
END:VEVENT
END:VCALENDAR
