BEGIN:VCALENDAR
VERSION:2.0
PRODID:-//Eventin//Event Calendar//EN
CALSCALE:GREGORIAN
METHOD:PUBLISH
BEGIN:VEVENT
UID:bb9d38c15ce79f46bb7478b1f1e13241@ycif.fr
SUMMARY:Challenge Départemental quillards des Yvelines
DESCRIPTION:
LOCATION:YCIF
DTSTAMP:20260424T155033Z
DTSTART:20260524T090000Z
DTEND:20260524T150000Z
END:VEVENT
END:VCALENDAR
