BEGIN:VCALENDAR
VERSION:2.0
PRODID:-//Eventin//Event Calendar//EN
CALSCALE:GREGORIAN
METHOD:PUBLISH
BEGIN:VEVENT
UID:63d621f5cbec5eb1621c8ac8bdcdca19@ycif.fr
SUMMARY:Régate du bel été
DESCRIPTION:
LOCATION:YCIF
DTSTAMP:20260424T155125Z
DTSTART:20260613T123000Z
DTEND:20260613T150000Z
END:VEVENT
END:VCALENDAR
