BEGIN:VCALENDAR
VERSION:2.0
PRODID:-//Eventin//Event Calendar//EN
CALSCALE:GREGORIAN
METHOD:PUBLISH
BEGIN:VEVENT
UID:ebf078623a20c7af75cf58e15fc70d98@ycif.fr
SUMMARY:Raid Triel
DESCRIPTION:
LOCATION:YCIF
DTSTAMP:20260424T161709Z
DTSTART:20260621T080000Z
DTEND:20260621T150000Z
END:VEVENT
END:VCALENDAR
