BEGIN:VCALENDAR
VERSION:2.0
PRODID:-//Eventin//Event Calendar//EN
CALSCALE:GREGORIAN
METHOD:PUBLISH
BEGIN:VEVENT
UID:319428716173ed8b97708cf76ce7cbae@ycif.fr
SUMMARY:Challenge Mixte Juliette Clarens
DESCRIPTION:
LOCATION:Ycif
DTSTAMP:20260424T155125Z
DTSTART:20260628T090000Z
DTEND:20260628T150000Z
END:VEVENT
END:VCALENDAR
