BEGIN:VCALENDAR
VERSION:2.0
PRODID:-//Eventin//Event Calendar//EN
CALSCALE:GREGORIAN
METHOD:PUBLISH
BEGIN:VEVENT
UID:d1534783d2ca33ac747cba56c9538347@ycif.fr
SUMMARY:Régate de Club
DESCRIPTION:
LOCATION:YCIF
DTSTAMP:20260424T162219Z
DTSTART:20260705T090000Z
DTEND:20260705T150000Z
END:VEVENT
END:VCALENDAR
