BEGIN:VCALENDAR
VERSION:2.0
PRODID:-//Eventin//Event Calendar//EN
CALSCALE:GREGORIAN
METHOD:PUBLISH
BEGIN:VEVENT
UID:28bb5d64c483bb8e92b8779235d9d0ce@ycif.fr
SUMMARY:Trophée Pourquoi Pas/ Charcot
DESCRIPTION:
LOCATION:YCIF
DTSTAMP:20260424T162219Z
DTSTART:20260905T123000Z
DTEND:20260905T150000Z
END:VEVENT
END:VCALENDAR
