BEGIN:VCALENDAR
VERSION:2.0
PRODID:-//Eventin//Event Calendar//EN
CALSCALE:GREGORIAN
METHOD:PUBLISH
BEGIN:VEVENT
UID:229c3d37b568bcd6575b155ccb41460a@ycif.fr
SUMMARY:National 2.4 mR
DESCRIPTION:
LOCATION:YCIF
DTSTAMP:20260424T162036Z
DTSTART:20260912T090000Z
DTEND:20260913T150000Z
END:VEVENT
END:VCALENDAR
