BEGIN:VCALENDAR
VERSION:2.0
PRODID:-//Eventin//Event Calendar//EN
CALSCALE:GREGORIAN
METHOD:PUBLISH
BEGIN:VEVENT
UID:98a9dad1cbb57020eadffb0bb3706432@ycif.fr
SUMMARY:Régate de Club
DESCRIPTION:
LOCATION:YCIF
DTSTAMP:20260424T155217Z
DTSTART:20260913T090000Z
DTEND:20260913T150000Z
END:VEVENT
END:VCALENDAR
