BEGIN:VCALENDAR
VERSION:2.0
PRODID:-//Eventin//Event Calendar//EN
CALSCALE:GREGORIAN
METHOD:PUBLISH
BEGIN:VEVENT
UID:dac967d661cc8d168461a60830347528@ycif.fr
SUMMARY:National Aile
DESCRIPTION:
LOCATION:YCIF
DTSTAMP:20260424T155157Z
DTSTART:20260919T090000Z
DTEND:20260920T150000Z
END:VEVENT
END:VCALENDAR
