BEGIN:VCALENDAR
VERSION:2.0
PRODID:-//Eventin//Event Calendar//EN
CALSCALE:GREGORIAN
METHOD:PUBLISH
BEGIN:VEVENT
UID:89046ad07925763b018647a24cc6d482@ycif.fr
SUMMARY:Challenge Auclair & IDF f15
DESCRIPTION:
LOCATION:YCIF
DTSTAMP:20260424T173015Z
DTSTART:20261003T090000Z
DTEND:20261004T150000Z
END:VEVENT
END:VCALENDAR
