BEGIN:VCALENDAR
VERSION:2.0
PRODID:-//Eventin//Event Calendar//EN
CALSCALE:GREGORIAN
METHOD:PUBLISH
BEGIN:VEVENT
UID:217118ce4b4cb69dcad9d8bfcdcafd55@ycif.fr
SUMMARY:Trophée Léon Haffner
DESCRIPTION:
LOCATION:YCIF
DTSTAMP:20260424T160243Z
DTSTART:20261011T090000Z
DTEND:20261011T150000Z
END:VEVENT
END:VCALENDAR
