BEGIN:VCALENDAR
VERSION:2.0
PRODID:-//Eventin//Event Calendar//EN
CALSCALE:GREGORIAN
METHOD:PUBLISH
BEGIN:VEVENT
UID:751c4b36e4ee2cf86b153332173acb51@ycif.fr
SUMMARY:Championnat IDF Star + Star « tradition »
DESCRIPTION:
LOCATION:YCIF
DTSTAMP:20260424T155157Z
DTSTART:20261018T090000Z
DTEND:20261018T150000Z
END:VEVENT
END:VCALENDAR
