BEGIN:VCALENDAR
VERSION:2.0
PRODID:-//Eventin//Event Calendar//EN
CALSCALE:GREGORIAN
METHOD:PUBLISH
BEGIN:VEVENT
UID:f420273e844479829b5a0a1cdd8a532a@ycif.fr
SUMMARY:Mémorial J. Piganeau
DESCRIPTION:
LOCATION:YCIF
DTSTAMP:20260424T155304Z
DTSTART:20261024T090000Z
DTEND:20261024T150000Z
END:VEVENT
END:VCALENDAR
