BEGIN:VCALENDAR
VERSION:2.0
PRODID:-//Eventin//Event Calendar//EN
CALSCALE:GREGORIAN
METHOD:PUBLISH
BEGIN:VEVENT
UID:004dd2455944b7e575a0ec36ccdee45f@ycif.fr
SUMMARY:Régate Saint Barth aux Mureaux
DESCRIPTION:
LOCATION:YCIF
DTSTAMP:20260424T155217Z
DTSTART:20261107T100000Z
DTEND:20261107T160000Z
END:VEVENT
END:VCALENDAR
