BEGIN:VCALENDAR
VERSION:2.0
PRODID:-//Eventin//Event Calendar//EN
CALSCALE:GREGORIAN
METHOD:PUBLISH
BEGIN:VEVENT
UID:36fa8d023392552a8ea0f05dbcd279f3@ycif.fr
SUMMARY:The Last One
DESCRIPTION:
LOCATION:YCIF
DTSTAMP:20260424T155033Z
DTSTART:20261115T100000Z
DTEND:20261115T160000Z
END:VEVENT
END:VCALENDAR
